{"text_format":"2","workbook":"xlsx","n_sheets":5,"sheets":["Record","Review","Review(Opposite)","Vocabulary DB","Rank"],"not_rendered":{"charts":0,"images":0,"macros":1,"external_links":0,"defined_names":1,"comments":0,"pivot_tables":0},"unopened":[],"bounds":{"document_bytes":16777216,"sheet_cells":100000,"run_cost":"one","rows_first":2000,"rows_last":500,"rows_between":2000,"halvings":0,"cell_chars":16384,"cell_head_chars":4096},"cells_cut":0,"cells_raw":0,"read":"whole","date_system":"1900"}

{"sheet":"Record","index":0,"n_rows":14,"n_cols":6,"rows_kept":14,"cut":false,"hidden":false,"merged":[]}
[]
[null,"Record The New Words"]
[]
[null,null,"Word","POS etc.","Meaning","Record date"]
[null,1,null,null,null,{"$f":"IF(COUNTA(C5:E5)=3,TODAY(),\"\")","v":""}]
[null,2,null,null,null,{"$f":"IF(COUNTA(C6:E6)=3,TODAY(),\"\")","v":""}]
[null,3,null,null,null,""]
[null,4,null,null,null,""]
[null,5,null,null,null,{"$f":"IF(COUNTA(C9:E9)=3,TODAY(),\"\")","v":""}]
[null,6,null,null,null,{"$f":"IF(COUNTA(C10:E10)=3,TODAY(),\"\")","v":""}]
[null,7,null,null,null,""]
[null,8,null,null,null,""]
[]
[{"$nulls":4},{"$f":"COUNTA(C5:C12)","v":0}]

{"sheet":"Review","index":1,"n_rows":45,"n_cols":12,"rows_kept":45,"cut":false,"hidden":false,"merged":[[4,5,4,6]]}
[{"$nulls":8},"For working"]
[null,"Review The Words"]
[]
[null,"計算式",null,null,null,{"$f":"IF(E4=\"\",\"\",IF(E4=I4,\"○\",\"×\"))","v":""},{"$f":"IF(F4=\"×\",I4,\"\")","v":""}]
[null,null,"POS etc.","Meaning","Answer Field","Answer",null,null,"answer","Record date","rank","next rank"]
[null,1,{"$nulls":7},{"$f":"IF(F6=\"\",\"\",TODAY())","v":""},null,{"$f":"IF(F6=\"\",\"\",IF(F6=\"○\",VLOOKUP(K6,Rank!$B$4:$E$9,4,0),\"E\"))","v":""}]
[null,2,{"$nulls":7},{"$f":"IF(F7=\"\",\"\",TODAY())","v":""},null,{"$f":"IF(F7=\"\",\"\",IF(F7=\"○\",VLOOKUP(K7,Rank!$B$4:$E$9,4,0),\"E\"))","v":""}]
[null,3,{"$nulls":7},"",null,{"$f":"IF(F8=\"\",\"\",IF(F8=\"○\",VLOOKUP(K8,Rank!$B$4:$E$9,4,0),\"E\"))","v":""}]
[null,4,{"$nulls":7},"",null,{"$f":"IF(F9=\"\",\"\",IF(F9=\"○\",VLOOKUP(K9,Rank!$B$4:$E$9,4,0),\"E\"))","v":""}]
[null,5,{"$nulls":7},"",null,{"$f":"IF(F10=\"\",\"\",IF(F10=\"○\",VLOOKUP(K10,Rank!$B$4:$E$9,4,0),\"E\"))","v":""}]
[null,6,{"$nulls":7},"",null,{"$f":"IF(F11=\"\",\"\",IF(F11=\"○\",VLOOKUP(K11,Rank!$B$4:$E$9,4,0),\"E\"))","v":""}]
[null,7,{"$nulls":7},"",null,{"$f":"IF(F12=\"\",\"\",IF(F12=\"○\",VLOOKUP(K12,Rank!$B$4:$E$9,4,0),\"E\"))","v":""}]
[null,8,{"$nulls":7},"",null,{"$f":"IF(F13=\"\",\"\",IF(F13=\"○\",VLOOKUP(K13,Rank!$B$4:$E$9,4,0),\"E\"))","v":""}]
[null,9,{"$nulls":7},"",null,{"$f":"IF(F14=\"\",\"\",IF(F14=\"○\",VLOOKUP(K14,Rank!$B$4:$E$9,4,0),\"E\"))","v":""}]
[null,10,{"$nulls":7},"",null,{"$f":"IF(F15=\"\",\"\",IF(F15=\"○\",VLOOKUP(K15,Rank!$B$4:$E$9,4,0),\"E\"))","v":""}]
[null,11,{"$nulls":7},"",null,{"$f":"IF(F16=\"\",\"\",IF(F16=\"○\",VLOOKUP(K16,Rank!$B$4:$E$9,4,0),\"E\"))","v":""}]
[null,12,{"$nulls":7},"",null,{"$f":"IF(F17=\"\",\"\",IF(F17=\"○\",VLOOKUP(K17,Rank!$B$4:$E$9,4,0),\"E\"))","v":""}]
[null,13,{"$nulls":7},"",null,{"$f":"IF(F18=\"\",\"\",IF(F18=\"○\",VLOOKUP(K18,Rank!$B$4:$E$9,4,0),\"E\"))","v":""}]
[null,14,{"$nulls":7},"",null,{"$f":"IF(F19=\"\",\"\",IF(F19=\"○\",VLOOKUP(K19,Rank!$B$4:$E$9,4,0),\"E\"))","v":""}]
[null,15,{"$nulls":7},"",null,{"$f":"IF(F20=\"\",\"\",IF(F20=\"○\",VLOOKUP(K20,Rank!$B$4:$E$9,4,0),\"E\"))","v":""}]
[null,16,{"$nulls":7},"",null,{"$f":"IF(F21=\"\",\"\",IF(F21=\"○\",VLOOKUP(K21,Rank!$B$4:$E$9,4,0),\"E\"))","v":""}]
[null,17,{"$nulls":7},"",null,{"$f":"IF(F22=\"\",\"\",IF(F22=\"○\",VLOOKUP(K22,Rank!$B$4:$E$9,4,0),\"E\"))","v":""}]
[null,18,{"$nulls":7},"",null,{"$f":"IF(F23=\"\",\"\",IF(F23=\"○\",VLOOKUP(K23,Rank!$B$4:$E$9,4,0),\"E\"))","v":""}]
[null,19,{"$nulls":7},"",null,{"$f":"IF(F24=\"\",\"\",IF(F24=\"○\",VLOOKUP(K24,Rank!$B$4:$E$9,4,0),\"E\"))","v":""}]
[null,20,{"$nulls":7},"",null,{"$f":"IF(F25=\"\",\"\",IF(F25=\"○\",VLOOKUP(K25,Rank!$B$4:$E$9,4,0),\"E\"))","v":""}]
[null,21,{"$nulls":7},"",null,{"$f":"IF(F26=\"\",\"\",IF(F26=\"○\",VLOOKUP(K26,Rank!$B$4:$E$9,4,0),\"E\"))","v":""}]
[null,22,{"$nulls":7},"",null,{"$f":"IF(F27=\"\",\"\",IF(F27=\"○\",VLOOKUP(K27,Rank!$B$4:$E$9,4,0),\"E\"))","v":""}]
[null,23,{"$nulls":7},"",null,{"$f":"IF(F28=\"\",\"\",IF(F28=\"○\",VLOOKUP(K28,Rank!$B$4:$E$9,4,0),\"E\"))","v":""}]
[null,24,{"$nulls":7},"",null,{"$f":"IF(F29=\"\",\"\",IF(F29=\"○\",VLOOKUP(K29,Rank!$B$4:$E$9,4,0),\"E\"))","v":""}]
[null,25,{"$nulls":7},"",null,{"$f":"IF(F30=\"\",\"\",IF(F30=\"○\",VLOOKUP(K30,Rank!$B$4:$E$9,4,0),\"E\"))","v":""}]
[null,26,{"$nulls":7},"",null,{"$f":"IF(F31=\"\",\"\",IF(F31=\"○\",VLOOKUP(K31,Rank!$B$4:$E$9,4,0),\"E\"))","v":""}]
[null,27,{"$nulls":7},"",null,{"$f":"IF(F32=\"\",\"\",IF(F32=\"○\",VLOOKUP(K32,Rank!$B$4:$E$9,4,0),\"E\"))","v":""}]
[null,28,{"$nulls":7},"",null,{"$f":"IF(F33=\"\",\"\",IF(F33=\"○\",VLOOKUP(K33,Rank!$B$4:$E$9,4,0),\"E\"))","v":""}]
[null,29,{"$nulls":7},"",null,{"$f":"IF(F34=\"\",\"\",IF(F34=\"○\",VLOOKUP(K34,Rank!$B$4:$E$9,4,0),\"E\"))","v":""}]
[null,30,{"$nulls":7},"",null,{"$f":"IF(F35=\"\",\"\",IF(F35=\"○\",VLOOKUP(K35,Rank!$B$4:$E$9,4,0),\"E\"))","v":""}]
[null,31,{"$nulls":7},"",null,{"$f":"IF(F36=\"\",\"\",IF(F36=\"○\",VLOOKUP(K36,Rank!$B$4:$E$9,4,0),\"E\"))","v":""}]
[null,32,{"$nulls":7},"",null,{"$f":"IF(F37=\"\",\"\",IF(F37=\"○\",VLOOKUP(K37,Rank!$B$4:$E$9,4,0),\"E\"))","v":""}]
[null,33,{"$nulls":7},"",null,{"$f":"IF(F38=\"\",\"\",IF(F38=\"○\",VLOOKUP(K38,Rank!$B$4:$E$9,4,0),\"E\"))","v":""}]
[null,34,{"$nulls":7},"",null,{"$f":"IF(F39=\"\",\"\",IF(F39=\"○\",VLOOKUP(K39,Rank!$B$4:$E$9,4,0),\"E\"))","v":""}]
[null,35,{"$nulls":7},"",null,{"$f":"IF(F40=\"\",\"\",IF(F40=\"○\",VLOOKUP(K40,Rank!$B$4:$E$9,4,0),\"E\"))","v":""}]
[null,36,{"$nulls":7},"",null,{"$f":"IF(F41=\"\",\"\",IF(F41=\"○\",VLOOKUP(K41,Rank!$B$4:$E$9,4,0),\"E\"))","v":""}]
[null,37,{"$nulls":7},"",null,{"$f":"IF(F42=\"\",\"\",IF(F42=\"○\",VLOOKUP(K42,Rank!$B$4:$E$9,4,0),\"E\"))","v":""}]
[null,38,{"$nulls":7},"",null,{"$f":"IF(F43=\"\",\"\",IF(F43=\"○\",VLOOKUP(K43,Rank!$B$4:$E$9,4,0),\"E\"))","v":""}]
[null,39,{"$nulls":7},"",null,{"$f":"IF(F44=\"\",\"\",IF(F44=\"○\",VLOOKUP(K44,Rank!$B$4:$E$9,4,0),\"E\"))","v":""}]
[null,40,{"$nulls":7},"",null,{"$f":"IF(F45=\"\",\"\",IF(F45=\"○\",VLOOKUP(K45,Rank!$B$4:$E$9,4,0),\"E\"))","v":""}]

{"sheet":"Review(Opposite)","index":2,"n_rows":15,"n_cols":9,"rows_kept":15,"cut":false,"hidden":false,"merged":[[4,3,4,5]]}
[]
[null,"Review The Words②(Opposite)",{"$nulls":5},"☆の数",{"$f":"COUNTIFS('Vocabulary DB'!$N:$N,\"☆\")","v":2}]
[{"$nulls":7},"上からいくつめの☆",4]
[null,{"$f":"IF(I2<=5,\"※復習単語数が少ないため、復習を終了してください\",\"★今日の復習対象単語数：\"&I2&\"語\")","v":"※復習単語数が少ないため、復習を終了してください"}]
[null,null,"Word","Meaning",null,null,"Answer","作業用"]
[null,1,null,1,"【名】(発達、変化の)段階、時期、(問題などの)面、側面、局面",1,null,"答え：",0]
[null,null,"conclude",2,"【名】姿勢、態度、意見、考え方",2,null,"正解：",{"$f":"VLOOKUP(C7,'Vocabulary DB'!$A:$C,3,0)","v":{"$error":"#N/A"}}]
[null,null,null,3,"【他】～を推論する",3,null,"正解番号：",{"$f":"VLOOKUP(I7,$E$6:$F$10,2,0)","v":{"$error":"#N/A"}}]
[null,null,null,4,"【他】～を推定する、(～である)と思う",4,{"$f":"IF(G8=\"×\",\"正解:\"&I8,\"\")","v":""},"word引用行数：",25]
[null,null,null,5,"【他】(～である)と結論を下す、～を終える、～(発言など)を締めくくる、～(契約など)を締結する",5,null,"ランク：",{"$f":"INDIRECT(\"'Vocabulary DB'!\"&ADDRESS(I9,12))","v":0}]
[{"$nulls":7},"次ランク：",{"$f":"IF(G8=\"×\",\"D\",IF(I10=\"S\",\"S\",VLOOKUP(I10,Rank!B4:F9,4,0)))","v":{"$error":"#N/A"}}]
[null,"■不具合情報"]
[null,"・同じ選択肢が出てくる　→　同じ選択肢が出てきたら、数字の小さい方を選択"]
[null,"・空白行が出てくる　→　無視"]
[null,"・ボキャブラリーDB数が少ないとおかしくなる　→　単語が10以上になってから復習する！"]

{"sheet":"Vocabulary DB","index":3,"n_rows":20,"n_cols":14,"rows_kept":20,"cut":false,"hidden":false,"merged":[]}
["Word","Part of speech etc.","Meaning","First recording date","No.","Last recording date","Rank","Next review date","Judge","Random","Last recording date2","Rank2","Next review date2","Judge2"]
["interfere","An electrical storm will ( ) with radio and television broadcasts.","【自】干渉する、妨げる、邪魔(妨害)をする","2020-07-08",7,"2020-09-28","E",{"$f":"IF(G2=\"S\",\"\",IF(F2=\"\",D2+DAY(VLOOKUP(G2,Rank!$B$4:$D$9,3,0)),F2+DAY(VLOOKUP(G2,Rank!$B$4:$D$9,3,0))))","v":"2020-09-28"},{"$f":"IF(H2=\"\",\"\",IF(TODAY()>=H2,\"☆\",\"\"))","v":"☆"},{"$f":"RANDBETWEEN(1,1000)","v":533},"2020-09-04","A",{"$f":"IF(L2=\"S\",\"\",IF(K2=\"\",D2+DAY(VLOOKUP(L2,Rank!$B$4:$D$9,3,0)),K2+DAY(VLOOKUP(L2,Rank!$B$4:$D$9,3,0))))","v":"2020-10-03"},{"$f":"IF(M2=\"\",\"\",IF(TODAY()>=M2,\"☆\",\"\"))","v":""}]
["congress","In the USA, ( ) consists of the Senate and the House of Representatives.","【名】(C～)(米国の)議会、国会、大会","2020-09-28",3,null,"E",{"$f":"IF(G3=\"S\",\"\",IF(F3=\"\",D3+DAY(VLOOKUP(G3,Rank!$B$4:$D$9,3,0)),F3+DAY(VLOOKUP(G3,Rank!$B$4:$D$9,3,0))))","v":"2020-09-28"},{"$f":"IF(H3=\"\",\"\",IF(TODAY()>=H3,\"☆\",\"\"))","v":"☆"},{"$f":"RANDBETWEEN(1,1000)","v":808},null,"D",{"$f":"IF(L3=\"S\",\"\",IF(K3=\"\",D3+DAY(VLOOKUP(L3,Rank!$B$4:$D$9,3,0)),K3+DAY(VLOOKUP(L3,Rank!$B$4:$D$9,3,0))))","v":"2020-09-29"},{"$f":"IF(M3=\"\",\"\",IF(TODAY()>=M3,\"☆\",\"\"))","v":""}]
["extend","Prof.Scholer ( ) a cordial invitation to the group from Japan.","【他】～を延長する、～を拡大する、～を示す、～を施す【自】広がる、のびる","2020-06-09",4,"2020-09-28","E",{"$f":"IF(G4=\"S\",\"\",IF(F4=\"\",D4+DAY(VLOOKUP(G4,Rank!$B$4:$D$9,3,0)),F4+DAY(VLOOKUP(G4,Rank!$B$4:$D$9,3,0))))","v":"2020-09-28"},{"$f":"IF(H4=\"\",\"\",IF(TODAY()>=H4,\"☆\",\"\"))","v":"☆"},{"$f":"RANDBETWEEN(1,1000)","v":768},"2020-08-28","S",{"$f":"IF(L4=\"S\",\"\",IF(K4=\"\",D4+DAY(VLOOKUP(L4,Rank!$B$4:$D$9,3,0)),K4+DAY(VLOOKUP(L4,Rank!$B$4:$D$9,3,0))))","v":""},{"$f":"IF(M4=\"\",\"\",IF(TODAY()>=M4,\"☆\",\"\"))","v":""}]
["lament","The entire country ( )ed the death of the princess.","【他】～を嘆き悲しむ【名】悲しみ、嘆き、哀歌","2020-09-09",2,"2020-09-28","E",{"$f":"IF(G5=\"S\",\"\",IF(F5=\"\",D5+DAY(VLOOKUP(G5,Rank!$B$4:$D$9,3,0)),F5+DAY(VLOOKUP(G5,Rank!$B$4:$D$9,3,0))))","v":"2020-09-28"},{"$f":"IF(H5=\"\",\"\",IF(TODAY()>=H5,\"☆\",\"\"))","v":"☆"},{"$f":"RANDBETWEEN(1,1000)","v":158},"2020-09-26","B",{"$f":"IF(L5=\"S\",\"\",IF(K5=\"\",D5+DAY(VLOOKUP(L5,Rank!$B$4:$D$9,3,0)),K5+DAY(VLOOKUP(L5,Rank!$B$4:$D$9,3,0))))","v":"2020-10-26"},{"$f":"IF(M5=\"\",\"\",IF(TODAY()>=M5,\"☆\",\"\"))","v":""}]
["prejudice","I was ( )d against that company's products by a competitor's representative.","【名】偏見、先入観【他】(人)に偏見を抱かせる","2020-09-28",7,null,"E",{"$f":"IF(G6=\"S\",\"\",IF(F6=\"\",D6+DAY(VLOOKUP(G6,Rank!$B$4:$D$9,3,0)),F6+DAY(VLOOKUP(G6,Rank!$B$4:$D$9,3,0))))","v":"2020-09-28"},{"$f":"IF(H6=\"\",\"\",IF(TODAY()>=H6,\"☆\",\"\"))","v":"☆"},{"$f":"RANDBETWEEN(1,1000)","v":711},null,"D",{"$f":"IF(L6=\"S\",\"\",IF(K6=\"\",D6+DAY(VLOOKUP(L6,Rank!$B$4:$D$9,3,0)),K6+DAY(VLOOKUP(L6,Rank!$B$4:$D$9,3,0))))","v":"2020-09-29"},{"$f":"IF(M6=\"\",\"\",IF(TODAY()>=M6,\"☆\",\"\"))","v":""}]
["statesman","The ( ) met representatives from countries to discuss economic issues.","【名】政治家","2020-09-28",5,null,"E",{"$f":"IF(G7=\"S\",\"\",IF(F7=\"\",D7+DAY(VLOOKUP(G7,Rank!$B$4:$D$9,3,0)),F7+DAY(VLOOKUP(G7,Rank!$B$4:$D$9,3,0))))","v":"2020-09-28"},{"$f":"IF(H7=\"\",\"\",IF(TODAY()>=H7,\"☆\",\"\"))","v":"☆"},{"$f":"RANDBETWEEN(1,1000)","v":740},null,"D",{"$f":"IF(L7=\"S\",\"\",IF(K7=\"\",D7+DAY(VLOOKUP(L7,Rank!$B$4:$D$9,3,0)),K7+DAY(VLOOKUP(L7,Rank!$B$4:$D$9,3,0))))","v":"2020-09-29"},{"$f":"IF(M7=\"\",\"\",IF(TODAY()>=M7,\"☆\",\"\"))","v":""}]
["nursery","I bought these trees at a plant ( ) outside of town.","【名】託児所、保育園、子供部屋、園芸店、養殖場","2020-09-28",6,null,"E",{"$f":"IF(G8=\"S\",\"\",IF(F8=\"\",D8+DAY(VLOOKUP(G8,Rank!$B$4:$D$9,3,0)),F8+DAY(VLOOKUP(G8,Rank!$B$4:$D$9,3,0))))","v":"2020-09-28"},{"$f":"IF(H8=\"\",\"\",IF(TODAY()>=H8,\"☆\",\"\"))","v":"☆"},{"$f":"RANDBETWEEN(1,1000)","v":955},null,"D",{"$f":"IF(L8=\"S\",\"\",IF(K8=\"\",D8+DAY(VLOOKUP(L8,Rank!$B$4:$D$9,3,0)),K8+DAY(VLOOKUP(L8,Rank!$B$4:$D$9,3,0))))","v":"2020-09-29"},{"$f":"IF(M8=\"\",\"\",IF(TODAY()>=M8,\"☆\",\"\"))","v":""}]
["rage","The ( ) this summer in swimwear is the square-cut type.","【名】激怒、熱望、流行のもの【自】激怒する、(嵐や伝染病などが)猛威をふるう","2020-09-19",2,"2020-09-28","E",{"$f":"IF(G9=\"S\",\"\",IF(F9=\"\",D9+DAY(VLOOKUP(G9,Rank!$B$4:$D$9,3,0)),F9+DAY(VLOOKUP(G9,Rank!$B$4:$D$9,3,0))))","v":"2020-09-28"},{"$f":"IF(H9=\"\",\"\",IF(TODAY()>=H9,\"☆\",\"\"))","v":"☆"},{"$f":"RANDBETWEEN(1,1000)","v":854},"2020-09-28","B",{"$f":"IF(L9=\"S\",\"\",IF(K9=\"\",D9+DAY(VLOOKUP(L9,Rank!$B$4:$D$9,3,0)),K9+DAY(VLOOKUP(L9,Rank!$B$4:$D$9,3,0))))","v":"2020-10-28"},{"$f":"IF(M9=\"\",\"\",IF(TODAY()>=M9,\"☆\",\"\"))","v":""}]
["astonish","His brash behavior only served to ( ) everyone.","【他】～を驚かす","2020-09-19",5,"2020-09-21","C",{"$f":"IF(G10=\"S\",\"\",IF(F10=\"\",D10+DAY(VLOOKUP(G10,Rank!$B$4:$D$9,3,0)),F10+DAY(VLOOKUP(G10,Rank!$B$4:$D$9,3,0))))","v":"2020-09-28"},{"$f":"IF(H10=\"\",\"\",IF(TODAY()>=H10,\"☆\",\"\"))","v":"☆"},{"$f":"RANDBETWEEN(1,1000)","v":459},"2020-09-28","B",{"$f":"IF(L10=\"S\",\"\",IF(K10=\"\",D10+DAY(VLOOKUP(L10,Rank!$B$4:$D$9,3,0)),K10+DAY(VLOOKUP(L10,Rank!$B$4:$D$9,3,0))))","v":"2020-10-28"},{"$f":"IF(M10=\"\",\"\",IF(TODAY()>=M10,\"☆\",\"\"))","v":""}]
["personality","Her ( ) was gentle and kind, though her husband was a real bear.","【名】個性、性格、人格、独特の雰囲気、有名人","2020-09-19",5,"2020-09-28","E",{"$f":"IF(G11=\"S\",\"\",IF(F11=\"\",D11+DAY(VLOOKUP(G11,Rank!$B$4:$D$9,3,0)),F11+DAY(VLOOKUP(G11,Rank!$B$4:$D$9,3,0))))","v":"2020-09-28"},{"$f":"IF(H11=\"\",\"\",IF(TODAY()>=H11,\"☆\",\"\"))","v":"☆"},{"$f":"RANDBETWEEN(1,1000)","v":886},"2020-09-21","C",{"$f":"IF(L11=\"S\",\"\",IF(K11=\"\",D11+DAY(VLOOKUP(L11,Rank!$B$4:$D$9,3,0)),K11+DAY(VLOOKUP(L11,Rank!$B$4:$D$9,3,0))))","v":"2020-09-28"},{"$f":"IF(M11=\"\",\"\",IF(TODAY()>=M11,\"☆\",\"\"))","v":"☆"}]
["cause","His comical behavior ( )d me to grin.","【名】原因、主義主張、理由、大義名分、目的【他】～を引き起こす、～に…させる、～の原因となる、～に…をもたらす","2020-09-28",1,null,"E",{"$f":"IF(G12=\"S\",\"\",IF(F12=\"\",D12+DAY(VLOOKUP(G12,Rank!$B$4:$D$9,3,0)),F12+DAY(VLOOKUP(G12,Rank!$B$4:$D$9,3,0))))","v":"2020-09-28"},{"$f":"IF(H12=\"\",\"\",IF(TODAY()>=H12,\"☆\",\"\"))","v":"☆"},{"$f":"RANDBETWEEN(1,1000)","v":869},null,"D",{"$f":"IF(L12=\"S\",\"\",IF(K12=\"\",D12+DAY(VLOOKUP(L12,Rank!$B$4:$D$9,3,0)),K12+DAY(VLOOKUP(L12,Rank!$B$4:$D$9,3,0))))","v":"2020-09-29"},{"$f":"IF(M12=\"\",\"\",IF(TODAY()>=M12,\"☆\",\"\"))","v":""}]
["endeavor","Building the new bridge was a great ( ) for the engineers.","【名】努力、こころみ【自】努力する","2020-07-02",4,"2020-09-28","E",{"$f":"IF(G13=\"S\",\"\",IF(F13=\"\",D13+DAY(VLOOKUP(G13,Rank!$B$4:$D$9,3,0)),F13+DAY(VLOOKUP(G13,Rank!$B$4:$D$9,3,0))))","v":"2020-09-28"},{"$f":"IF(H13=\"\",\"\",IF(TODAY()>=H13,\"☆\",\"\"))","v":"☆"},{"$f":"RANDBETWEEN(1,1000)","v":424},"2020-09-26","C",{"$f":"IF(L13=\"S\",\"\",IF(K13=\"\",D13+DAY(VLOOKUP(L13,Rank!$B$4:$D$9,3,0)),K13+DAY(VLOOKUP(L13,Rank!$B$4:$D$9,3,0))))","v":"2020-10-03"},{"$f":"IF(M13=\"\",\"\",IF(TODAY()>=M13,\"☆\",\"\"))","v":""}]
["detach","The instructions said to fill out the card, ( ) it, and send it in the mail.","【他】～を切り離す、～を取り外す","2020-08-18",5,"2020-09-28","E",{"$f":"IF(G14=\"S\",\"\",IF(F14=\"\",D14+DAY(VLOOKUP(G14,Rank!$B$4:$D$9,3,0)),F14+DAY(VLOOKUP(G14,Rank!$B$4:$D$9,3,0))))","v":"2020-09-28"},{"$f":"IF(H14=\"\",\"\",IF(TODAY()>=H14,\"☆\",\"\"))","v":"☆"},{"$f":"RANDBETWEEN(1,1000)","v":551},"2020-09-08","B",{"$f":"IF(L14=\"S\",\"\",IF(K14=\"\",D14+DAY(VLOOKUP(L14,Rank!$B$4:$D$9,3,0)),K14+DAY(VLOOKUP(L14,Rank!$B$4:$D$9,3,0))))","v":"2020-10-08"},{"$f":"IF(M14=\"\",\"\",IF(TODAY()>=M14,\"☆\",\"\"))","v":""}]
["substitute","There is no ( ) for a mother and father's love.","【他】～を代わりに用いる、～を代用する【名】代理人、代用品","2020-09-28",8,null,"E",{"$f":"IF(G15=\"S\",\"\",IF(F15=\"\",D15+DAY(VLOOKUP(G15,Rank!$B$4:$D$9,3,0)),F15+DAY(VLOOKUP(G15,Rank!$B$4:$D$9,3,0))))","v":"2020-09-28"},{"$f":"IF(H15=\"\",\"\",IF(TODAY()>=H15,\"☆\",\"\"))","v":"☆"},{"$f":"RANDBETWEEN(1,1000)","v":301},null,"D",{"$f":"IF(L15=\"S\",\"\",IF(K15=\"\",D15+DAY(VLOOKUP(L15,Rank!$B$4:$D$9,3,0)),K15+DAY(VLOOKUP(L15,Rank!$B$4:$D$9,3,0))))","v":"2020-09-29"},{"$f":"IF(M15=\"\",\"\",IF(TODAY()>=M15,\"☆\",\"\"))","v":""}]
["supplement","I often take vitamins as a ( ) to my regular diet.","【名】補足、付録【他】～を(・・で)補う","2020-07-17",6,"2020-09-28","E",{"$f":"IF(G16=\"S\",\"\",IF(F16=\"\",D16+DAY(VLOOKUP(G16,Rank!$B$4:$D$9,3,0)),F16+DAY(VLOOKUP(G16,Rank!$B$4:$D$9,3,0))))","v":"2020-09-28"},{"$f":"IF(H16=\"\",\"\",IF(TODAY()>=H16,\"☆\",\"\"))","v":"☆"},{"$f":"RANDBETWEEN(1,1000)","v":454},"2020-09-02","A",{"$f":"IF(L16=\"S\",\"\",IF(K16=\"\",D16+DAY(VLOOKUP(L16,Rank!$B$4:$D$9,3,0)),K16+DAY(VLOOKUP(L16,Rank!$B$4:$D$9,3,0))))","v":"2020-10-01"},{"$f":"IF(M16=\"\",\"\",IF(TODAY()>=M16,\"☆\",\"\"))","v":""}]
["insist","My mother ( )d that I stay home and study this afternoon.","【他】～と主張する、～と言い張る、～を要求する","2020-09-28",2,null,"E",{"$f":"IF(G17=\"S\",\"\",IF(F17=\"\",D17+DAY(VLOOKUP(G17,Rank!$B$4:$D$9,3,0)),F17+DAY(VLOOKUP(G17,Rank!$B$4:$D$9,3,0))))","v":"2020-09-28"},{"$f":"IF(H17=\"\",\"\",IF(TODAY()>=H17,\"☆\",\"\"))","v":"☆"},{"$f":"RANDBETWEEN(1,1000)","v":607},null,"D",{"$f":"IF(L17=\"S\",\"\",IF(K17=\"\",D17+DAY(VLOOKUP(L17,Rank!$B$4:$D$9,3,0)),K17+DAY(VLOOKUP(L17,Rank!$B$4:$D$9,3,0))))","v":"2020-09-29"},{"$f":"IF(M17=\"\",\"\",IF(TODAY()>=M17,\"☆\",\"\"))","v":""}]
["illegal","I think it is ( ) to park your car next to the fire station.","【形】不法な、違法な","2020-09-28",4,null,"E",{"$f":"IF(G18=\"S\",\"\",IF(F18=\"\",D18+DAY(VLOOKUP(G18,Rank!$B$4:$D$9,3,0)),F18+DAY(VLOOKUP(G18,Rank!$B$4:$D$9,3,0))))","v":"2020-09-28"},{"$f":"IF(H18=\"\",\"\",IF(TODAY()>=H18,\"☆\",\"\"))","v":"☆"},{"$f":"RANDBETWEEN(1,1000)","v":546},null,"D",{"$f":"IF(L18=\"S\",\"\",IF(K18=\"\",D18+DAY(VLOOKUP(L18,Rank!$B$4:$D$9,3,0)),K18+DAY(VLOOKUP(L18,Rank!$B$4:$D$9,3,0))))","v":"2020-09-29"},{"$f":"IF(M18=\"\",\"\",IF(TODAY()>=M18,\"☆\",\"\"))","v":""}]
["interact","As a teacher, I enjoy ( )ing with students.","【自】相互に影響する、相互に意志を伝える、相互にやりとりする","2020-08-23",4,"2020-09-02","B",{"$f":"IF(G19=\"S\",\"\",IF(F19=\"\",D19+DAY(VLOOKUP(G19,Rank!$B$4:$D$9,3,0)),F19+DAY(VLOOKUP(G19,Rank!$B$4:$D$9,3,0))))","v":"2020-10-02"},{"$f":"IF(H19=\"\",\"\",IF(TODAY()>=H19,\"☆\",\"\"))","v":""},{"$f":"RANDBETWEEN(1,1000)","v":392},"2020-09-13","B",{"$f":"IF(L19=\"S\",\"\",IF(K19=\"\",D19+DAY(VLOOKUP(L19,Rank!$B$4:$D$9,3,0)),K19+DAY(VLOOKUP(L19,Rank!$B$4:$D$9,3,0))))","v":"2020-10-13"},{"$f":"IF(M19=\"\",\"\",IF(TODAY()>=M19,\"☆\",\"\"))","v":""}]
["humble","Though very successful, she always remained shy and ( ).","【形】謙遜した、卑しい、質素な","2020-09-15",7,"2020-09-26","B",{"$f":"IF(G20=\"S\",\"\",IF(F20=\"\",D20+DAY(VLOOKUP(G20,Rank!$B$4:$D$9,3,0)),F20+DAY(VLOOKUP(G20,Rank!$B$4:$D$9,3,0))))","v":"2020-10-26"},{"$f":"IF(H20=\"\",\"\",IF(TODAY()>=H20,\"☆\",\"\"))","v":""},{"$f":"RANDBETWEEN(1,1000)","v":987},"2020-09-27","D",{"$f":"IF(L20=\"S\",\"\",IF(K20=\"\",D20+DAY(VLOOKUP(L20,Rank!$B$4:$D$9,3,0)),K20+DAY(VLOOKUP(L20,Rank!$B$4:$D$9,3,0))))","v":"2020-09-28"},{"$f":"IF(M20=\"\",\"\",IF(TODAY()>=M20,\"☆\",\"\"))","v":"☆"}]

{"sheet":"Rank","index":4,"n_rows":9,"n_cols":6,"rows_kept":9,"cut":false,"hidden":false,"merged":[]}
[]
[null,"Definition of Rank"]
[]
[null,"Rank","Next Review","Day","○","×"]
[null,"A","After 2 months",60,"S","E"]
[null,"B","After 1 month",30,"A","E"]
[null,"C","After 1 week",7,"B","E"]
[null,"D","After 1 day",1,"C","E"]
[null,"E","Today",0,"D","E"]